BEGIN:VCALENDAR
VERSION:2.0
PRODID:-//Cecil Andrews College - ECPv4.6.25//NONSGML v1.0//EN
CALSCALE:GREGORIAN
METHOD:PUBLISH
X-WR-CALNAME:Cecil Andrews College
X-ORIGINAL-URL:http://cecilandrewscollege.wa.edu.au
X-WR-CALDESC:Events for Cecil Andrews College
BEGIN:VEVENT
DTSTART;TZID=UTC+8:20190206T150000
DTEND;TZID=UTC+8:20190206T170000
DTSTAMP:20190228T215742
CREATED:20190213T062249Z
LAST-MODIFIED:20190213T062249Z
UID:5265-1549465200-1549472400@cecilandrewscollege.wa.edu.au
SUMMARY:Into the Woods Rehearsal
DESCRIPTION:
URL:http://cecilandrewscollege.wa.edu.au/event/into-the-woods-rehearsal/
LOCATION:CA College Performing Arts Theatre
CATEGORIES:events,home
ORGANIZER;CN="Celeste%20Underhill%20%28PA%29":MAILTO:celeste.underhill@education.wa.edu.au
END:VEVENT
END:VCALENDAR